BEGIN:VCALENDAR
VERSION:2.0
PRODID:-//Jaguar Minnesota - ECPv6.15.1.1//NONSGML v1.0//EN
CALSCALE:GREGORIAN
METHOD:PUBLISH
X-WR-CALNAME:Jaguar Minnesota
X-ORIGINAL-URL:https://www.jaguarminnesota.com
X-WR-CALDESC:Events for Jaguar Minnesota
REFRESH-INTERVAL;VALUE=DURATION:PT1H
X-Robots-Tag:noindex
X-PUBLISHED-TTL:PT1H
BEGIN:VTIMEZONE
TZID:UTC
BEGIN:STANDARD
TZOFFSETFROM:+0000
TZOFFSETTO:+0000
TZNAME:UTC
DTSTART:20260101T000000
END:STANDARD
END:VTIMEZONE
BEGIN:VEVENT
DTSTART;TZID=UTC:20260425T090000
DTEND;TZID=UTC:20260425T130000
DTSTAMP:20260423T164221
CREATED:20220212T234617Z
LAST-MODIFIED:20260218T195303Z
UID:1302-1777107600-1777122000@www.jaguarminnesota.com
SUMMARY:Cars and Caves
DESCRIPTION:First one of 2022
URL:https://www.jaguarminnesota.com/event/jaguar-club-of-minnesota-at-cars-and-caves/
LOCATION:Auto Motorplex\, 8150 Audobon Rd\, Chanhassen\, MN\, 55317\, United States
END:VEVENT
END:VCALENDAR