BEGIN:VCALENDAR
VERSION:2.0
PRODID:-//Jaguar Minnesota - ECPv6.15.1.1//NONSGML v1.0//EN
CALSCALE:GREGORIAN
METHOD:PUBLISH
X-WR-CALNAME:Jaguar Minnesota
X-ORIGINAL-URL:https://www.jaguarminnesota.com
X-WR-CALDESC:Events for Jaguar Minnesota
REFRESH-INTERVAL;VALUE=DURATION:PT1H
X-Robots-Tag:noindex
X-PUBLISHED-TTL:PT1H
BEGIN:VTIMEZONE
TZID:UTC
BEGIN:STANDARD
TZOFFSETFROM:+0000
TZOFFSETTO:+0000
TZNAME:UTC
DTSTART:20260101T000000
END:STANDARD
END:VTIMEZONE
BEGIN:VEVENT
DTSTART;TZID=UTC:20260620T090000
DTEND;TZID=UTC:20260621T140000
DTSTAMP:20260423T194329
CREATED:20220418T132552Z
LAST-MODIFIED:20260218T201732Z
UID:1328-1781946000-1782050400@www.jaguarminnesota.com
SUMMARY:06-20/21 Art of the Car show
DESCRIPTION:Part of the Stone Arch Art show on Saturday and Sunday.  Fourth Ave. N. at West River Road in downtown Minneapolis. \nWatch your email for the invite.
URL:https://www.jaguarminnesota.com/event/art-of-the-car-show/
LOCATION:North 4th Ave and West River Road\, Portland at West River Parkway\, Minneapolis\, MN\, 55414\, United States
END:VEVENT
BEGIN:VEVENT
DTSTART;TZID=UTC:20260627T090000
DTEND;TZID=UTC:20260627T130000
DTSTAMP:20260423T194329
CREATED:20220213T000638Z
LAST-MODIFIED:20260218T200207Z
UID:1314-1782550800-1782565200@www.jaguarminnesota.com
SUMMARY:Cars and Caves
DESCRIPTION:
URL:https://www.jaguarminnesota.com/event/jaguar-club-at-cars-and-caves-2/
LOCATION:Auto Motorplex\, 8150 Audobon Rd\, Chanhassen\, MN\, 55317\, United States
END:VEVENT
END:VCALENDAR