BEGIN:VCALENDAR
VERSION:2.0
PRODID:-//Jaguar Minnesota - ECPv6.15.1.1//NONSGML v1.0//EN
CALSCALE:GREGORIAN
METHOD:PUBLISH
X-WR-CALNAME:Jaguar Minnesota
X-ORIGINAL-URL:https://www.jaguarminnesota.com
X-WR-CALDESC:Events for Jaguar Minnesota
REFRESH-INTERVAL;VALUE=DURATION:PT1H
X-Robots-Tag:noindex
X-PUBLISHED-TTL:PT1H
BEGIN:VTIMEZONE
TZID:UTC
BEGIN:STANDARD
TZOFFSETFROM:+0000
TZOFFSETTO:+0000
TZNAME:UTC
DTSTART:20250101T000000
END:STANDARD
END:VTIMEZONE
BEGIN:VEVENT
DTSTART;TZID=UTC:20250906T090000
DTEND;TZID=UTC:20250906T140000
DTSTAMP:20260424T144705
CREATED:20240804T132316Z
LAST-MODIFIED:20250831T190422Z
UID:1522-1757149200-1757167200@www.jaguarminnesota.com
SUMMARY:Jaguar Club at Wheels and Wings
DESCRIPTION:Special Announcement \nSeptember 6 Wheels and Wings for Jaguar Club of Minnesota \nWheels and Wings is changing formats this year so Jaguar Club of Minnesota will not have preferred access.  Therefore\, we are not organizing a club group to travel there.  Members are still encouraged to attend and to “buddy up” to travel to the show. \nWe do not have reserved space this year.  The entry fee is $20 per car payable at the entry gate.  Parking will be with the general show participants.  Gates are open officially at 8am but you can probably enter before that.  This show fills up early. \n 
URL:https://www.jaguarminnesota.com/event/jaguar-club-at-wheels-and-wings/
LOCATION:Osceola Airport\, Osceola\, WI\, 54020\, United States
END:VEVENT
BEGIN:VEVENT
DTSTART;TZID=UTC:20250928T150000
DTEND;TZID=UTC:20250928T190000
DTSTAMP:20260424T144705
CREATED:20220718T182903Z
LAST-MODIFIED:20250924T201946Z
UID:1381-1759071600-1759086000@www.jaguarminnesota.com
SUMMARY:Mexican Fiesta (cancelled)
DESCRIPTION:This event cancelled.
URL:https://www.jaguarminnesota.com/event/mexican-fiesta-2/
LOCATION:Lynch Residence\, 6630 HORSESHOE CURVE\, Chanhassen\, MN\, 55317\, United States
ORGANIZER;CN="Mike Lynch":MAILTO:mikegloria.lynch@gmail.com
END:VEVENT
BEGIN:VEVENT
DTSTART;TZID=UTC:20260307T160000
DTEND;TZID=UTC:20260307T200000
DTSTAMP:20260424T144705
CREATED:20161227T134426Z
LAST-MODIFIED:20260218T195040Z
UID:288-1772899200-1772913600@www.jaguarminnesota.com
SUMMARY:Jaguar Club Holiday Potluck Party
DESCRIPTION:More info coming.  Watch for your invitation. \n 
URL:https://www.jaguarminnesota.com/event/holiday-party/
LOCATION:Auto Motorplex\, 8150 Audobon Rd\, Chanhassen\, MN\, 55317\, United States
END:VEVENT
BEGIN:VEVENT
DTSTART;TZID=UTC:20260425T090000
DTEND;TZID=UTC:20260425T130000
DTSTAMP:20260424T144705
CREATED:20220212T234617Z
LAST-MODIFIED:20260218T195303Z
UID:1302-1777107600-1777122000@www.jaguarminnesota.com
SUMMARY:Cars and Caves
DESCRIPTION:First one of 2022
URL:https://www.jaguarminnesota.com/event/jaguar-club-of-minnesota-at-cars-and-caves/
LOCATION:Auto Motorplex\, 8150 Audobon Rd\, Chanhassen\, MN\, 55317\, United States
END:VEVENT
BEGIN:VEVENT
DTSTART;TZID=UTC:20260502T080000
DTEND;TZID=UTC:20260502T140000
DTSTAMP:20260424T144705
CREATED:20240118T203615Z
LAST-MODIFIED:20260218T202255Z
UID:1480-1777708800-1777730400@www.jaguarminnesota.com
SUMMARY:Spring Drive
DESCRIPTION:Wach your email for the invite.
URL:https://www.jaguarminnesota.com/event/spring-drive-to-the-lowell-inn/
LOCATION:WI
END:VEVENT
BEGIN:VEVENT
DTSTART;TZID=UTC:20260516T080000
DTEND;TZID=UTC:20260516T120000
DTSTAMP:20260424T144705
CREATED:20220212T235754Z
LAST-MODIFIED:20260218T195849Z
UID:1309-1778918400-1778932800@www.jaguarminnesota.com
SUMMARY:Intermarque Spring Kick Off
DESCRIPTION:
URL:https://www.jaguarminnesota.com/event/jaguar-club-at-intermarque-spring-kick-off/
LOCATION:Osseo Town Square\, Osseo\, MN\, United States
END:VEVENT
BEGIN:VEVENT
DTSTART;TZID=UTC:20260530T090000
DTEND;TZID=UTC:20260530T130000
DTSTAMP:20260424T144705
CREATED:20240118T203916Z
LAST-MODIFIED:20260218T195956Z
UID:1482-1780131600-1780146000@www.jaguarminnesota.com
SUMMARY:Cars and Caves
DESCRIPTION:
URL:https://www.jaguarminnesota.com/event/cars-and-caves-5/
LOCATION:Auto Motorplex\, 8150 Audobon Rd\, Chanhassen\, MN\, 55317\, United States
END:VEVENT
BEGIN:VEVENT
DTSTART;TZID=UTC:20260620T090000
DTEND;TZID=UTC:20260621T140000
DTSTAMP:20260424T144705
CREATED:20220418T132552Z
LAST-MODIFIED:20260218T201732Z
UID:1328-1781946000-1782050400@www.jaguarminnesota.com
SUMMARY:06-20/21 Art of the Car show
DESCRIPTION:Part of the Stone Arch Art show on Saturday and Sunday.  Fourth Ave. N. at West River Road in downtown Minneapolis. \nWatch your email for the invite.
URL:https://www.jaguarminnesota.com/event/art-of-the-car-show/
LOCATION:North 4th Ave and West River Road\, Portland at West River Parkway\, Minneapolis\, MN\, 55414\, United States
END:VEVENT
BEGIN:VEVENT
DTSTART;TZID=UTC:20260627T090000
DTEND;TZID=UTC:20260627T130000
DTSTAMP:20260424T144705
CREATED:20220213T000638Z
LAST-MODIFIED:20260218T200207Z
UID:1314-1782550800-1782565200@www.jaguarminnesota.com
SUMMARY:Cars and Caves
DESCRIPTION:
URL:https://www.jaguarminnesota.com/event/jaguar-club-at-cars-and-caves-2/
LOCATION:Auto Motorplex\, 8150 Audobon Rd\, Chanhassen\, MN\, 55317\, United States
END:VEVENT
BEGIN:VEVENT
DTSTART;TZID=UTC:20260718T100000
DTEND;TZID=UTC:20260718T170000
DTSTAMP:20260424T144705
CREATED:20220716T161544Z
LAST-MODIFIED:20260218T200439Z
UID:1377-1784368800-1784394000@www.jaguarminnesota.com
SUMMARY:Scottish Fair & British Car Show
DESCRIPTION:Scuttish Fair and Highand Games includes a British car show at Macalester College in St. Paul. \nPlease contact Jim Harris to show your car.
URL:https://www.jaguarminnesota.com/event/scottish-fair-british-car-and-motorcycle-show/
LOCATION:Macalester College\, 1600 Grand\, St. Paul\, MN\, 55105\, United States
END:VEVENT
BEGIN:VEVENT
DTSTART;TZID=UTC:20260725T080000
DTEND;TZID=UTC:20260725T130000
DTSTAMP:20260424T144705
CREATED:20230711T144851Z
LAST-MODIFIED:20260218T200547Z
UID:1436-1784966400-1784984400@www.jaguarminnesota.com
SUMMARY:Cars and Caves
DESCRIPTION:At the Autoplex in Chanhassen
URL:https://www.jaguarminnesota.com/event/cars-and-caves-3/
LOCATION:Auto Motorplex\, 8150 Audobon Rd\, Chanhassen\, MN\, 55317\, United States
END:VEVENT
BEGIN:VEVENT
DTSTART;TZID=UTC:20260726T110000
DTEND;TZID=UTC:20260726T150000
DTSTAMP:20260424T144705
CREATED:20220213T000318Z
LAST-MODIFIED:20260218T200349Z
UID:1312-1785063600-1785078000@www.jaguarminnesota.com
SUMMARY:Jaguar Club Annual Picnic
DESCRIPTION:Watch for your invite.
URL:https://www.jaguarminnesota.com/event/jaguar-club-of-minnesota-annual-picnic/
LOCATION:Emerson Engineering park\, 12001 Technology Drive\, Eden Prairie\, MN\, MN\, 55344\, United States
ORGANIZER;CN="Mike Lynch":MAILTO:mikegloria.lynch@gmail.com
END:VEVENT
BEGIN:VEVENT
DTSTART;TZID=UTC:20260808T090000
DTEND;TZID=UTC:20260808T120000
DTSTAMP:20260424T144705
CREATED:20220615T192649Z
LAST-MODIFIED:20260218T200643Z
UID:1370-1786179600-1786190400@www.jaguarminnesota.com
SUMMARY:Britfest in Hudson\, WI
DESCRIPTION:Watch for email invite.
URL:https://www.jaguarminnesota.com/event/britfest-in-hudson-wi/
LOCATION:Downtown Hudson\, WI\, 111 Walnut Street\, Hudson\, WI\, 54016\, United States
END:VEVENT
BEGIN:VEVENT
DTSTART;TZID=UTC:20260815T090000
DTEND;TZID=UTC:20260815T140000
DTSTAMP:20260424T144705
CREATED:20220418T133848Z
LAST-MODIFIED:20260218T201945Z
UID:1334-1786784400-1786802400@www.jaguarminnesota.com
SUMMARY:Kathy's Cruise and Corn Roast
DESCRIPTION:Start and end points will include about a 2 hour drive. \n  \nwatch for email invite
URL:https://www.jaguarminnesota.com/event/kathys-cruise-and-corn-roast/
LOCATION:WI
END:VEVENT
BEGIN:VEVENT
DTSTART;TZID=UTC:20260829T080000
DTEND;TZID=UTC:20260829T130000
DTSTAMP:20260424T144705
CREATED:20230711T145223Z
LAST-MODIFIED:20260218T200907Z
UID:1438-1787990400-1788008400@www.jaguarminnesota.com
SUMMARY:Cars and Caves
DESCRIPTION:At the Autoplex in Chanhassen
URL:https://www.jaguarminnesota.com/event/cars-and-caves-4/
LOCATION:Auto Motorplex\, 8150 Audobon Rd\, Chanhassen\, MN\, 55317\, United States
END:VEVENT
BEGIN:VEVENT
DTSTART;TZID=UTC:20260912T120000
DTEND;TZID=UTC:20260912T170000
DTSTAMP:20260424T144705
CREATED:20240118T210951Z
LAST-MODIFIED:20260218T201006Z
UID:1490-1789214400-1789232400@www.jaguarminnesota.com
SUMMARY:Jag Club Cookout
DESCRIPTION:Watch for email invite.
URL:https://www.jaguarminnesota.com/event/jag-club-cruise-and-cookout/
LOCATION:Downtown Hudson\, WI\, 111 Walnut Street\, Hudson\, WI\, 54016\, United States
END:VEVENT
BEGIN:VEVENT
DTSTART;TZID=UTC:20260926T090000
DTEND;TZID=UTC:20260926T130000
DTSTAMP:20260424T144705
CREATED:20240302T173453Z
LAST-MODIFIED:20260218T201056Z
UID:1496-1790413200-1790427600@www.jaguarminnesota.com
SUMMARY:Cars and Caves
DESCRIPTION:
URL:https://www.jaguarminnesota.com/event/cars-and-caves-6/
LOCATION:Auto Motorplex\, 8150 Audobon Rd\, Chanhassen\, MN\, 55317\, United States
END:VEVENT
BEGIN:VEVENT
DTSTART;TZID=UTC:20261003T170000
DTEND;TZID=UTC:20261003T200000
DTSTAMP:20260424T144705
CREATED:20220615T191422Z
LAST-MODIFIED:20260218T201139Z
UID:1361-1791046800-1791057600@www.jaguarminnesota.com
SUMMARY:Jaguar Club of Minnesota Banquet
DESCRIPTION:Format is potluck with club furnishing the steaks. \nwatch for your email invite
URL:https://www.jaguarminnesota.com/event/jaguar-club-of-minnesota-banquet/
LOCATION:Auto Motorplex\, 8150 Audobon Rd\, Chanhassen\, MN\, 55317\, United States
END:VEVENT
BEGIN:VEVENT
DTSTART;TZID=UTC:20261010T130000
DTEND;TZID=UTC:20261010T160000
DTSTAMP:20260424T144705
CREATED:20220615T191627Z
LAST-MODIFIED:20260218T201422Z
UID:1363-1791637200-1791648000@www.jaguarminnesota.com
SUMMARY:Fall Color Drive
DESCRIPTION:Watch for your email invite \n 
URL:https://www.jaguarminnesota.com/event/fall-color-drive/
LOCATION:WI
END:VEVENT
BEGIN:VEVENT
DTSTART;TZID=UTC:20261107T100000
DTEND;TZID=UTC:20261107T120000
DTSTAMP:20260424T144705
CREATED:20220615T192103Z
LAST-MODIFIED:20260218T201658Z
UID:1368-1794045600-1794052800@www.jaguarminnesota.com
SUMMARY:Club Planning Breakfast
DESCRIPTION:Watch your email for the information flyer
URL:https://www.jaguarminnesota.com/event/jaguar-club-planning-breakfast/
LOCATION:Lake Elmo Inn\, 3442 Lake Elmo Ave. N.\, Lake Elmo\, MN\, 55042\, United States
END:VEVENT
END:VCALENDAR