BEGIN:VCALENDAR
VERSION:2.0
PRODID:-//Jaguar Minnesota - ECPv6.15.1.1//NONSGML v1.0//EN
CALSCALE:GREGORIAN
METHOD:PUBLISH
X-WR-CALNAME:Jaguar Minnesota
X-ORIGINAL-URL:https://www.jaguarminnesota.com
X-WR-CALDESC:Events for Jaguar Minnesota
REFRESH-INTERVAL;VALUE=DURATION:PT1H
X-Robots-Tag:noindex
X-PUBLISHED-TTL:PT1H
BEGIN:VTIMEZONE
TZID:UTC
BEGIN:STANDARD
TZOFFSETFROM:+0000
TZOFFSETTO:+0000
TZNAME:UTC
DTSTART:20220101T000000
END:STANDARD
END:VTIMEZONE
BEGIN:VEVENT
DTSTART;TZID=UTC:20250928T150000
DTEND;TZID=UTC:20250928T190000
DTSTAMP:20260423T224423
CREATED:20220718T182903Z
LAST-MODIFIED:20250924T201946Z
UID:1381-1759071600-1759086000@www.jaguarminnesota.com
SUMMARY:Mexican Fiesta (cancelled)
DESCRIPTION:This event cancelled.
URL:https://www.jaguarminnesota.com/event/mexican-fiesta-2/
LOCATION:Lynch Residence\, 6630 HORSESHOE CURVE\, Chanhassen\, MN\, 55317\, United States
ORGANIZER;CN="Mike Lynch":MAILTO:mikegloria.lynch@gmail.com
END:VEVENT
BEGIN:VEVENT
DTSTART;TZID=UTC:20250906T090000
DTEND;TZID=UTC:20250906T140000
DTSTAMP:20260423T224423
CREATED:20240804T132316Z
LAST-MODIFIED:20250831T190422Z
UID:1522-1757149200-1757167200@www.jaguarminnesota.com
SUMMARY:Jaguar Club at Wheels and Wings
DESCRIPTION:Special Announcement \nSeptember 6 Wheels and Wings for Jaguar Club of Minnesota \nWheels and Wings is changing formats this year so Jaguar Club of Minnesota will not have preferred access.  Therefore\, we are not organizing a club group to travel there.  Members are still encouraged to attend and to “buddy up” to travel to the show. \nWe do not have reserved space this year.  The entry fee is $20 per car payable at the entry gate.  Parking will be with the general show participants.  Gates are open officially at 8am but you can probably enter before that.  This show fills up early. \n 
URL:https://www.jaguarminnesota.com/event/jaguar-club-at-wheels-and-wings/
LOCATION:Osceola Airport\, Osceola\, WI\, 54020\, United States
END:VEVENT
BEGIN:VEVENT
DTSTART;TZID=UTC:20250607T100000
DTEND;TZID=UTC:20250607T160000
DTSTAMP:20260423T224423
CREATED:20210412T153910Z
LAST-MODIFIED:20250116T185641Z
UID:1238-1749290400-1749312000@www.jaguarminnesota.com
SUMMARY:BMC Spring Into Summer Car Show
DESCRIPTION:Jaguar Club at Isanti BMC.  Jaguar Club of Minnesota is co sponsor.
URL:https://www.jaguarminnesota.com/event/bmc-spring-into-summer-car-show/
LOCATION:BMC British Automobile\, 444 East Dual Blvd.\, Isanti\, MN\, 55040\, United States
END:VEVENT
BEGIN:VEVENT
DTSTART;VALUE=DATE:20240915
DTEND;VALUE=DATE:20240922
DTSTAMP:20260423T224423
CREATED:20240409T151113Z
LAST-MODIFIED:20240409T151113Z
UID:1501-1726398000-1726916399@www.jaguarminnesota.com
SUMMARY:Conclave at Road America
DESCRIPTION:Sponsored by the Wisconsin Austin Healey Club
URL:https://www.jaguarminnesota.com/event/conclave-at-road-america/
LOCATION:Elkhart Raceway
ORGANIZER;CN="Mike Lynch":MAILTO:mikegloria.lynch@gmail.com
END:VEVENT
BEGIN:VEVENT
DTSTART;VALUE=DATE:20240606
DTEND;VALUE=DATE:20240611
DTSTAMP:20260423T224423
CREATED:20170314T191234Z
LAST-MODIFIED:20240118T205014Z
UID:357-1717671600-1718017199@www.jaguarminnesota.com
SUMMARY:Annual Sports Car Rendezvous
DESCRIPTION:Rendezvous 2024.   \nContact:  Thunder Bay Vintage Sports Car Club:   https://www.tbvscc.ca \n  \n  \n  \n 
URL:https://www.jaguarminnesota.com/event/rendevzvous/
LOCATION:Thunder Bay\, Ontario\, Canada\, Canada
END:VEVENT
BEGIN:VEVENT
DTSTART;TZID=UTC:20240218T120000
DTEND;TZID=UTC:20240218T140000
DTSTAMP:20260423T224423
CREATED:20240118T201843Z
LAST-MODIFIED:20240118T201843Z
UID:1475-1708257600-1708264800@www.jaguarminnesota.com
SUMMARY:Loppet Wine and Cheese
DESCRIPTION:Watch your email for the invite.
URL:https://www.jaguarminnesota.com/event/loppet-wine-and-cheese/
LOCATION:WI
END:VEVENT
BEGIN:VEVENT
DTSTART;TZID=UTC:20230527T070000
DTEND;TZID=UTC:20230527T120000
DTSTAMP:20260423T224423
CREATED:20220212T235431Z
LAST-MODIFIED:20230109T021143Z
UID:1307-1685170800-1685188800@www.jaguarminnesota.com
SUMMARY:Cars and Caves
DESCRIPTION:
URL:https://www.jaguarminnesota.com/event/jaguar-club-at-cars-and-caves/
LOCATION:Auto Motorplex\, 8150 Audobon Rd\, Chanhassen\, MN\, 55317\, United States
END:VEVENT
BEGIN:VEVENT
DTSTART;TZID=UTC:20221113T150000
DTEND;TZID=UTC:20221113T190000
DTSTAMP:20260423T224423
CREATED:20220615T191829Z
LAST-MODIFIED:20221107T230315Z
UID:1365-1668351600-1668366000@www.jaguarminnesota.com
SUMMARY:Wine and Cheese Party
DESCRIPTION:Watch for your email invite
URL:https://www.jaguarminnesota.com/event/wine-and-cheese-party/
LOCATION:Lynch Residence\, 6630 HORSESHOE CURVE\, Chanhassen\, MN\, 55317\, United States
ORGANIZER;CN="Mike Lynch":MAILTO:mikegloria.lynch@gmail.com
END:VEVENT
BEGIN:VEVENT
DTSTART;TZID=UTC:20220827T070000
DTEND;TZID=UTC:20220827T120000
DTSTAMP:20260423T224423
CREATED:20220615T190612Z
LAST-MODIFIED:20220615T190612Z
UID:1356-1661583600-1661601600@www.jaguarminnesota.com
SUMMARY:Cars and Caves
DESCRIPTION:
URL:https://www.jaguarminnesota.com/event/cars-and-caves-2/
LOCATION:Auto Motorplex\, 8150 Audobon Rd\, Chanhassen\, MN\, 55317\, United States
END:VEVENT
BEGIN:VEVENT
DTSTART;TZID=UTC:20220730T070000
DTEND;TZID=UTC:20220730T120000
DTSTAMP:20260423T224423
CREATED:20220615T190204Z
LAST-MODIFIED:20220716T155253Z
UID:1354-1659164400-1659182400@www.jaguarminnesota.com
SUMMARY:Cars and Caves
DESCRIPTION:
URL:https://www.jaguarminnesota.com/event/cars-and-caves/
LOCATION:Auto Motorplex\, 8150 Audobon Rd\, Chanhassen\, MN\, 55317\, United States
END:VEVENT
BEGIN:VEVENT
DTSTART;TZID=UTC:20220514T100000
DTEND;TZID=UTC:20220514T140000
DTSTAMP:20260423T224423
CREATED:20220418T132026Z
LAST-MODIFIED:20220418T134354Z
UID:1326-1652522400-1652536800@www.jaguarminnesota.com
SUMMARY:Feed My Starving Children
DESCRIPTION:Watch for email invite
URL:https://www.jaguarminnesota.com/event/feed-my-starving-children-charity-volunteer-event/
LOCATION:WI
END:VEVENT
BEGIN:VEVENT
DTSTART;TZID=UTC:20220507T100000
DTEND;TZID=UTC:20220507T130000
DTSTAMP:20260423T224423
CREATED:20220418T131633Z
LAST-MODIFIED:20220501T160506Z
UID:1324-1651917600-1651928400@www.jaguarminnesota.com
SUMMARY:Spring Drive to the Lowell Inn
DESCRIPTION:Watch for email invite
URL:https://www.jaguarminnesota.com/event/drive-to-sweetheart-luncheon/
LOCATION:WI
END:VEVENT
END:VCALENDAR