BEGIN:VCALENDAR
VERSION:2.0
PRODID:-//Jaguar Minnesota - ECPv6.15.1.1//NONSGML v1.0//EN
CALSCALE:GREGORIAN
METHOD:PUBLISH
X-ORIGINAL-URL:https://www.jaguarminnesota.com
X-WR-CALDESC:Events for Jaguar Minnesota
REFRESH-INTERVAL;VALUE=DURATION:PT1H
X-Robots-Tag:noindex
X-PUBLISHED-TTL:PT1H
BEGIN:VTIMEZONE
TZID:UTC
BEGIN:STANDARD
TZOFFSETFROM:+0000
TZOFFSETTO:+0000
TZNAME:UTC
DTSTART:20260101T000000
END:STANDARD
END:VTIMEZONE
BEGIN:VEVENT
DTSTART;TZID=UTC:20261010T130000
DTEND;TZID=UTC:20261010T160000
DTSTAMP:20260424T032209
CREATED:20220615T191627Z
LAST-MODIFIED:20260218T201422Z
UID:1363-1791637200-1791648000@www.jaguarminnesota.com
SUMMARY:Fall Color Drive
DESCRIPTION:Watch for your email invite \n 
URL:https://www.jaguarminnesota.com/event/fall-color-drive/
LOCATION:WI
END:VEVENT
END:VCALENDAR