BEGIN:VCALENDAR
VERSION:2.0
PRODID:-//Jaguar Minnesota - ECPv6.15.1.1//NONSGML v1.0//EN
CALSCALE:GREGORIAN
METHOD:PUBLISH
X-WR-CALNAME:Jaguar Minnesota
X-ORIGINAL-URL:https://www.jaguarminnesota.com
X-WR-CALDESC:Events for Jaguar Minnesota
REFRESH-INTERVAL;VALUE=DURATION:PT1H
X-Robots-Tag:noindex
X-PUBLISHED-TTL:PT1H
BEGIN:VTIMEZONE
TZID:UTC
BEGIN:STANDARD
TZOFFSETFROM:+0000
TZOFFSETTO:+0000
TZNAME:UTC
DTSTART:20260101T000000
END:STANDARD
END:VTIMEZONE
BEGIN:VEVENT
DTSTART;TZID=UTC:20260829T080000
DTEND;TZID=UTC:20260829T130000
DTSTAMP:20260424T000559
CREATED:20230711T145223Z
LAST-MODIFIED:20260218T200907Z
UID:1438-1787990400-1788008400@www.jaguarminnesota.com
SUMMARY:Cars and Caves
DESCRIPTION:At the Autoplex in Chanhassen
URL:https://www.jaguarminnesota.com/event/cars-and-caves-4/
LOCATION:Auto Motorplex\, 8150 Audobon Rd\, Chanhassen\, MN\, 55317\, United States
END:VEVENT
END:VCALENDAR