BEGIN:VCALENDAR
VERSION:2.0
PRODID:-//Jaguar Minnesota - ECPv6.15.1.1//NONSGML v1.0//EN
CALSCALE:GREGORIAN
METHOD:PUBLISH
X-ORIGINAL-URL:https://www.jaguarminnesota.com
X-WR-CALDESC:Events for Jaguar Minnesota
REFRESH-INTERVAL;VALUE=DURATION:PT1H
X-Robots-Tag:noindex
X-PUBLISHED-TTL:PT1H
BEGIN:VTIMEZONE
TZID:UTC
BEGIN:STANDARD
TZOFFSETFROM:+0000
TZOFFSETTO:+0000
TZNAME:UTC
DTSTART:20260101T000000
END:STANDARD
END:VTIMEZONE
BEGIN:VEVENT
DTSTART;TZID=UTC:20260307T160000
DTEND;TZID=UTC:20260307T200000
DTSTAMP:20260423T194518
CREATED:20161227T134426Z
LAST-MODIFIED:20260218T195040Z
UID:288-1772899200-1772913600@www.jaguarminnesota.com
SUMMARY:Jaguar Club Holiday Potluck Party
DESCRIPTION:More info coming.  Watch for your invitation. \n 
URL:https://www.jaguarminnesota.com/event/holiday-party/
LOCATION:Auto Motorplex\, 8150 Audobon Rd\, Chanhassen\, MN\, 55317\, United States
END:VEVENT
END:VCALENDAR